BEGIN:VCALENDAR
VERSION:2.0
PRODID:icalendar-ruby
CALSCALE:GREGORIAN
BEGIN:VTIMEZONE
TZID:America/New_York
BEGIN:DAYLIGHT
DTSTART:20240310T030000
TZOFFSETFROM:-0500
TZOFFSETTO:-0400
RRULE:FREQ=YEARLY;BYDAY=2SU;BYMONTH=3
TZNAME:EDT
END:DAYLIGHT
BEGIN:STANDARD
DTSTART:20241103T010000
TZOFFSETFROM:-0400
TZOFFSETTO:-0500
RRULE:FREQ=YEARLY;BYDAY=1SU;BYMONTH=11
TZNAME:EST
END:STANDARD
END:VTIMEZONE
BEGIN:VEVENT
DTSTAMP:20260420T170256Z
UID:tJ55qw
DTSTART;TZID=America/New_York:20241021T170000
DTEND;TZID=America/New_York:20241021T193000
CLASS:PUBLIC
CREATED:20240912T142105
DESCRIPTION: TechTO is proud to present Canadian Rocketships 2024\, where w
 e shine a spotlight on the most promising tech startups in Canada! \n\n  \
 nThrough an open nomination process\, we will select 5 standout startups t
 hat have achieved significant milestones in innovation\, growth\, and impa
 ct. These trailblazers will take the stage at City Hall to present their j
 ourney\, share key insights\, and inspire the next wave of tech leaders. \
 n\n  \n \nThis event is a must-attend for anyone passionate about the futu
 re of Canadian tech\, offering a rare opportunity to connect with the entr
 epreneurs and visionaries driving the country's tech ecosystem forward. \n
 \n  \nDon’t miss out on this incredible showcase of Canadian innovation 
 and leadership! Get you ticket now! \n\n  \nPlease visit the event website
  for speakers announcement: Here \n\n Ticket Policy:\nTickets for this eve
 nt are non-refundable and non-transferable. \n
LAST-MODIFIED:20250430T084033
LOCATION:100 Queen St W\, Toronto\, ON M5H 2N2
ORGANIZER:mailto:info@techtoronto.org
SUMMARY:TechTO: Canadian Rocketships 2024 at Toronto City Hall
URL;VALUE=URI:https://ti.to/techtoronto/techtorocketships-oct-21-2024
URL;VALUE=URI:https://ti.to/techtoronto/techtorocketships-oct-21-2024
END:VEVENT
BEGIN:VEVENT
DTSTAMP:20260420T170256Z
UID:tJ55qw1075014
DTSTART;TZID=America/New_York:20241021T170000
DTEND;TZID=America/New_York:20241021T193000
CLASS:PUBLIC
CREATED:20240912T142107
DESCRIPTION:5:00 pm — Doors open and networking\n\n6:00 pm — Community 
 open mic\, TechTO announcement\, speaker presentations\n\n7:30 pm — End 
 of the event and After Party
LAST-MODIFIED:20241003T122603
LOCATION:City Hall\, 100 Queen St. W. Toronto\, ON M5H 2N2
ORGANIZER:mailto:info@techtoronto.org
SUMMARY:[TechTO: Canadian Rocketships 2024 at Toronto City Hall] TechTO: Ca
 nadian Rocketships 2024
URL;VALUE=URI:https://ti.to/techtoronto/techtorocketships-oct-21-2024
X-ALT-DESC;FMTTYPE=text/html:5:00 pm — Doors open and networking\n\n6:00 
 pm — Community open mic\, TechTO announcement\, speaker presentations\n\
 n7:30 pm — End of the event and After Party
URL;VALUE=URI:https://ti.to/techtoronto/techtorocketships-oct-21-2024
END:VEVENT
END:VCALENDAR
