BEGIN:VCALENDAR
VERSION:2.0
PRODID:icalendar-ruby
CALSCALE:GREGORIAN
BEGIN:VTIMEZONE
TZID:America/New_York
BEGIN:DAYLIGHT
DTSTART:20250309T030000
TZOFFSETFROM:-0500
TZOFFSETTO:-0400
RRULE:FREQ=YEARLY;BYDAY=2SU;BYMONTH=3
TZNAME:EDT
END:DAYLIGHT
BEGIN:STANDARD
DTSTART:20241103T010000
TZOFFSETFROM:-0400
TZOFFSETTO:-0500
RRULE:FREQ=YEARLY;BYDAY=1SU;BYMONTH=11
TZNAME:EST
END:STANDARD
END:VTIMEZONE
BEGIN:VEVENT
DTSTAMP:20260421T033623Z
UID:ZGtfsw
DTSTART;TZID=America/New_York:20241119T180000
DTEND;TZID=America/New_York:20241119T210000
CLASS:PUBLIC
CREATED:20241002T185631
DESCRIPTION: WHERE: OneEleven on the 4th Floor\, 325 Front St. W\, Toronto\
 , ON \n\n WHEN: November 19th\, 2024 from 6PM - 9PM ET (Doors open at 6PM)
  \n\n  \nRetail Toronto brings together the worlds of technology\, retaile
 rs and brands. Our goal is to share stories and learnings about the collis
 ions and collaborations that happen when we integrate these three interdep
 endent ecosystems. \n\n  \nAttend Retail Toronto to be inspired\, learn ab
 out how to transcend traditional boundaries to encourage collaboration and
  new partnerships\, and uncover strategies to accelerate your business gro
 wth. \n\n  \nDon't miss out and get your tickets today! For more informati
 on and speaker announcement\, please visit here \n\n *By registering for o
 ur events\, you are automatically subscribed to our newsletter" (you may u
 nsubscribe on your own if you choose) \n
LAST-MODIFIED:20250430T084033
LOCATION:OneEleven\, 325 Front St W\, Toronto\, ON M5V 2Y1
ORGANIZER:mailto:info@techtoronto.org
SUMMARY:Retail Toronto | November 19th\, 2024
URL;VALUE=URI:https://ti.to/techtoronto/techtoretail-nov-19-2024
URL;VALUE=URI:https://ti.to/techtoronto/techtoretail-nov-19-2024
END:VEVENT
BEGIN:VEVENT
DTSTAMP:20260421T033623Z
UID:ZGtfsw1075717
DTSTART;TZID=America/New_York:20241119T180000
DTEND;TZID=America/New_York:20241119T210000
CLASS:PUBLIC
CREATED:20241002T185633
DESCRIPTION:6:00 pm — <span class="colour" style="color:rgb(0\, 0\, 0)">D
 oors and marketplace open\, and networking</span>\n\n7:00 pm — Community
  open mic\, speaker presentations\, & Fireside chat\n\n8:30 pm — Continu
 ed networking and marketplace reopens\n\n9:00 pm —End of event
LAST-MODIFIED:20241117T132408
LOCATION:OneEleven\, 325 Front St W\, Toronto\, ON M5V 2Y1\, Canada
ORGANIZER:mailto:info@techtoronto.org
SUMMARY:[Retail Toronto | November 19th\, 2024] TechTO: Retail Nov 19
URL;VALUE=URI:https://ti.to/techtoronto/techtoretail-nov-19-2024
X-ALT-DESC;FMTTYPE=text/html:6:00 pm — <span class="colour" style="color:
 rgb(0\, 0\, 0)">Doors and marketplace open\, and networking</span>\n\n7:00
  pm — Community open mic\, speaker presentations\, & Fireside chat\n\n8:
 30 pm — Continued networking and marketplace reopens\n\n9:00 pm —End o
 f event
URL;VALUE=URI:https://ti.to/techtoronto/techtoretail-nov-19-2024
END:VEVENT
END:VCALENDAR
