BEGIN:VCALENDAR
VERSION:2.0
PRODID:icalendar-ruby
CALSCALE:GREGORIAN
BEGIN:VEVENT
DTSTAMP:20260422T171352Z
UID:vz5MOQ
DTSTART;VALUE=DATE:20200925
DTEND;VALUE=DATE:20200926
CLASS:PUBLIC
CREATED:20200904T155319
DESCRIPTION: Discover the untold stories about successful fundraising round
 s\, with firsthand accounts from the people in the room. \n\n In each epis
 ode\, you’ll hear from each side — the founder and the investor — ab
 out the process of closing a deal. You’ll also learn more about the ongo
 ing relationships that drive businesses forward. \n\n \n\n This week's epi
 sode features: \n\n \n Nikhil Basu Trivedi (Angel Investor) \n Jonathan Re
 gev (Co-founder &amp\; CEO at The Farmer's Dog) \n \n\n \n\n Join us at 12
 pm-1pm EDT / 9am-10am PDT \n
LAST-MODIFIED:20250430T124033
LOCATION:Online
ORGANIZER:mailto:info@techtoronto.org
SUMMARY:Founders & Funding - September 25\, 2020
URL;VALUE=URI:https://ti.to/techtoronto/techto-tv-sept25-2020
URL;VALUE=URI:https://ti.to/techtoronto/techto-tv-sept25-2020
END:VEVENT
BEGIN:VEVENT
DTSTAMP:20260422T171352Z
UID:vz5MOQ1033771
DTSTART:20200925T120000
DTEND:20200925T130000
CLASS:PUBLIC
CREATED:20200904T155320
LAST-MODIFIED:20200904T170026
ORGANIZER:mailto:info@techtoronto.org
SUMMARY:[Founders & Funding - September 25\, 2020] Registration
URL;VALUE=URI:https://ti.to/techtoronto/techto-tv-sept25-2020
URL;VALUE=URI:https://ti.to/techtoronto/techto-tv-sept25-2020
END:VEVENT
END:VCALENDAR
