BEGIN:VCALENDAR
VERSION:2.0
PRODID:icalendar-ruby
CALSCALE:GREGORIAN
BEGIN:VEVENT
DTSTAMP:20260422T074208Z
UID:lPdwSw
DTSTART;VALUE=DATE:20170918
DTEND;VALUE=DATE:20170919
CLASS:PUBLIC
CREATED:20170710T173121
LAST-MODIFIED:20250430T124033
LOCATION:Toronto\, Ontario
ORGANIZER:mailto:info@techtoronto.org
SUMMARY:TechTO Meetup + Afterparty - September 18\, 2017
URL;VALUE=URI:https://ti.to/techtoronto/techto-september2017
URL;VALUE=URI:https://ti.to/techtoronto/techto-september2017
END:VEVENT
BEGIN:VEVENT
DTSTAMP:20260422T074208Z
UID:lPdwSw1017284
DTSTART:20170918T180000
DTEND:20170918T210000
CLASS:PUBLIC
CREATED:20170710T173135
LAST-MODIFIED:20171122T090404
ORGANIZER:mailto:info@techtoronto.org
SUMMARY:[TechTO Meetup + Afterparty - September 18\, 2017] Venue capacity
URL;VALUE=URI:https://ti.to/techtoronto/techto-september2017
URL;VALUE=URI:https://ti.to/techtoronto/techto-september2017
END:VEVENT
END:VCALENDAR
