BEGIN:VCALENDAR
VERSION:2.0
PRODID:icalendar-ruby
CALSCALE:GREGORIAN
BEGIN:VTIMEZONE
TZID:America/New_York
BEGIN:DAYLIGHT
DTSTART:20240310T030000
TZOFFSETFROM:-0500
TZOFFSETTO:-0400
RRULE:FREQ=YEARLY;BYDAY=2SU;BYMONTH=3
TZNAME:EDT
END:DAYLIGHT
BEGIN:STANDARD
DTSTART:20231105T010000
TZOFFSETFROM:-0400
TZOFFSETTO:-0500
RRULE:FREQ=YEARLY;BYDAY=1SU;BYMONTH=11
TZNAME:EST
END:STANDARD
END:VTIMEZONE
BEGIN:VEVENT
DTSTAMP:20260424T081628Z
UID:a7xvsw
DTSTART;VALUE=DATE:20231106
DTEND;VALUE=DATE:20231107
CLASS:PUBLIC
CREATED:20230829T171334
DESCRIPTION: WHERE: Rotman School of Management\, Desautels Hall\, 105 St G
 eorge St\, Toronto \n\n WHEN: November 6th\, 2023 from 6PM - 9PM ET (Doors
  open at 6PM) \n\n TechTO features in-depth conversations with technology 
 leaders\, innovators\, and entrepreneurs. This Premium version of our Tech
 TO: Together series gives access to exclusive venues\, speakers\, food\, a
 nd more! \n\n Success is not linear. Even the most dynamic leaders experie
 nce challenges and setbacks. However\, in those experiences\, there are ma
 ny lessons and opportunities to redefine our strategies and TechTO showcas
 es the complexities that make the journey all of what it is. \n\n TechTO i
 s curated to bring you inspirational stories where you can learn practical
  tips from leaders who have dreamed\, struggled\, and ultimately persevere
 d. Our conversation with our guests typically reviews their career journey
 \, the early days of their company\, lessons from scaling\, and a few fun 
 personal questions. \n\n  \nYou'll get to meet and learn from: **Manmeet M
 aggu\, CEO of **Trexo Robotics \n\n More information and speakers announce
 ment will be coming up soon! \n
LAST-MODIFIED:20250430T084033
LOCATION:Rotman School of Management\, Desautels Hall\, 105 St. George Stre
 et\, Toronto
ORGANIZER:mailto:info@techtoronto.org
SUMMARY:TechTO: Together | Premium | November 6\, 2023
URL;VALUE=URI:https://ti.to/techtoronto/techto-november-6-2023
URL;VALUE=URI:https://ti.to/techtoronto/techto-november-6-2023
END:VEVENT
BEGIN:VEVENT
DTSTAMP:20260424T081628Z
UID:a7xvsw1061982
DTSTART;TZID=America/New_York:20231106T180000
DTEND;TZID=America/New_York:20231106T210000
CLASS:PUBLIC
CREATED:20230915T132511
DESCRIPTION:<span class="colour" style="color:rgb(0\, 0\, 0)">Looking forwa
 rd to seeing you at TechTO event!</span>
LAST-MODIFIED:20231012T171559
LOCATION:Desautels Hall\, Rotman School of Management\, 105 St George St\, 
 Toronto\, ON\, Canada
ORGANIZER:mailto:info@techtoronto.org
SUMMARY:[TechTO: Together | Premium | November 6\, 2023] Event time
URL;VALUE=URI:https://ti.to/techtoronto/techto-november-6-2023
X-ALT-DESC;FMTTYPE=text/html:<span class="colour" style="color:rgb(0\, 0\, 
 0)">Looking forward to seeing you at TechTO event!</span>
URL;VALUE=URI:https://ti.to/techtoronto/techto-november-6-2023
END:VEVENT
END:VCALENDAR
