BEGIN:VCALENDAR
VERSION:2.0
PRODID:icalendar-ruby
CALSCALE:GREGORIAN
BEGIN:VEVENT
DTSTAMP:20260423T173505Z
UID:gGmYlw
DTSTART;VALUE=DATE:20170313
DTEND;VALUE=DATE:20170314
CLASS:PUBLIC
CREATED:20170103T135848
LAST-MODIFIED:20250430T124033
LOCATION:Toronto\, Ontario
ORGANIZER:mailto:info@techtoronto.org
SUMMARY:TechTO Meetup + Afterparty - March 13\, 2017
URL;VALUE=URI:https://ti.to/techtoronto/techto-march2017
URL;VALUE=URI:https://ti.to/techtoronto/techto-march2017
END:VEVENT
BEGIN:VEVENT
DTSTAMP:20260423T173505Z
UID:gGmYlw1012239
DTSTART:20170313T180000
DTEND:20170313T210000
CLASS:PUBLIC
CREATED:20170103T135900
LAST-MODIFIED:20171122T090223
ORGANIZER:mailto:info@techtoronto.org
SUMMARY:[TechTO Meetup + Afterparty - March 13\, 2017] Venue capacity
URL;VALUE=URI:https://ti.to/techtoronto/techto-march2017
URL;VALUE=URI:https://ti.to/techtoronto/techto-march2017
END:VEVENT
END:VCALENDAR
