BEGIN:VCALENDAR
VERSION:2.0
PRODID:icalendar-ruby
CALSCALE:GREGORIAN
BEGIN:VTIMEZONE
TZID:America/New_York
BEGIN:DAYLIGHT
DTSTART:20230312T030000
TZOFFSETFROM:-0500
TZOFFSETTO:-0400
RRULE:FREQ=YEARLY;BYDAY=2SU;BYMONTH=3
TZNAME:EDT
END:DAYLIGHT
BEGIN:STANDARD
DTSTART:20231105T010000
TZOFFSETFROM:-0400
TZOFFSETTO:-0500
RRULE:FREQ=YEARLY;BYDAY=1SU;BYMONTH=11
TZNAME:EST
END:STANDARD
END:VTIMEZONE
BEGIN:VEVENT
DTSTAMP:20260425T032127Z
UID:BAViMw
DTSTART;VALUE=DATE:20230706
DTEND;VALUE=DATE:20230707
CLASS:PUBLIC
CREATED:20230605T131128
DESCRIPTION: WHERE: 55 Dundas St. W (Ted Rogers School of Management) \n\n 
 WHEN: July 6\, 2023 \n\n TechTO: Sales brings together Toronto’s sales l
 eaders in the tech industry\, innovators\, and enthusiasts for monthly eve
 nts. Join other sales and business development professionals from leading 
 Toronto technology companies for a night of candid discussions and network
 ing. \n\n Want to stay up to date on current and upcoming events\, tech ne
 ws\, and awesome jobs? Subscribe to our newsletter: https://www.techto.org
 / \n\n WHY ATTEND SALESTO: \n\n • The Speakers: Meet highly-curated lead
 ers and innovators who will share their experiences and expertise. Our spe
 akers are not here to pitch to you but to share what they’ve learned ove
 r the years so you walk away with actionable insights. \n\n • The Crowd:
  SalesTO brings together a diverse crowd of sales and tech builders\, lead
 ers\, and enthusiasts. \n\n • The Agenda: The night starts off with a ch
 ance to connect and meet someone new. Then our speakers take the virtual s
 tage for presentations or discussions around innovations in sales. \n\n Le
 arn more on our website: https://www.techto.org/ \n\n You'll hear from: \n
 \n \n Asad Zaman\, CEO of Sales Talent Agency \n Kyle Norton\, SVP of Sale
 s at owner.com \n \n\n Thanks as well to our sponsors: \n\n Penske \n\n Mo
 re About Penske Truck Leasing:\nPenske Truck Leasing Co.\, L.P.\, headquar
 tered in Reading\, Pennsylvania\, is a partnership of Penske Corporation\,
  Penske Automotive Group and Mitsui &amp\; Co.\, Ltd. A leading global tra
 nsportation services provider\, Penske operates a premier fleet of vehicle
 s and serves its customers from locations in North America\, South America
 \, Europe\, Australia\, and Asia. Penske’s product lines include full-se
 rvice truck leasing\, contract maintenance\, commercial and consumer truck
  rentals\, used truck sales\, transportation and warehousing management an
 d supply chain management solutions. \n\n And thanks as well to our partne
 rs: \n\n Ted Rogers School of Management and RI Events \n
LAST-MODIFIED:20250430T084033
LOCATION:Ted Rogers School of Management\, 55 Dundas St. W\, Toronto. ON
ORGANIZER:mailto:info@techtoronto.org
SUMMARY:TechTO: Sales | July 6\, 2023
URL;VALUE=URI:https://ti.to/techtoronto/techto-july-6-2023-
URL;VALUE=URI:https://ti.to/techtoronto/techto-july-6-2023-
END:VEVENT
END:VCALENDAR
