BEGIN:VCALENDAR
VERSION:2.0
PRODID:icalendar-ruby
CALSCALE:GREGORIAN
BEGIN:VEVENT
DTSTAMP:20260424T084011Z
UID:eeNqQQ
DTSTART;VALUE=DATE:20170116
DTEND;VALUE=DATE:20170117
CLASS:PUBLIC
CREATED:20161115T195305
LAST-MODIFIED:20250430T124033
LOCATION:Toronto\, Ontario
ORGANIZER:mailto:info@techtoronto.org
SUMMARY:TechTO Meetup + Afterparty - January 16\, 2017
URL;VALUE=URI:https://ti.to/techtoronto/techto-january2017
URL;VALUE=URI:https://ti.to/techtoronto/techto-january2017
END:VEVENT
BEGIN:VEVENT
DTSTAMP:20260424T084011Z
UID:eeNqQQ1011785
DTSTART:20170116T180000
DTEND:20170116T210000
CLASS:PUBLIC
CREATED:20161115T195318
LAST-MODIFIED:20171122T090216
ORGANIZER:mailto:info@techtoronto.org
SUMMARY:[TechTO Meetup + Afterparty - January 16\, 2017] Venue capacity
URL;VALUE=URI:https://ti.to/techtoronto/techto-january2017
URL;VALUE=URI:https://ti.to/techtoronto/techto-january2017
END:VEVENT
END:VCALENDAR
