BEGIN:VCALENDAR
VERSION:2.0
PRODID:icalendar-ruby
CALSCALE:GREGORIAN
BEGIN:VEVENT
DTSTAMP:20260420T084936Z
UID:N6CrNw
DTSTART;VALUE=DATE:20180227
DTEND;VALUE=DATE:20180228
CLASS:PUBLIC
CREATED:20180129T181729
LAST-MODIFIED:20250430T124033
LOCATION:Toronto\, Ontario
ORGANIZER:mailto:info@techtoronto.org
SUMMARY:The Best of TechTO 2018 - Exclusive Event
URL;VALUE=URI:https://ti.to/techtoronto/techto-bestoftechto2018
URL;VALUE=URI:https://ti.to/techtoronto/techto-bestoftechto2018
END:VEVENT
END:VCALENDAR
