BEGIN:VCALENDAR
VERSION:2.0
PRODID:icalendar-ruby
CALSCALE:GREGORIAN
BEGIN:VTIMEZONE
TZID:America/New_York
BEGIN:DAYLIGHT
DTSTART:20240310T030000
TZOFFSETFROM:-0500
TZOFFSETTO:-0400
RRULE:FREQ=YEARLY;BYDAY=2SU;BYMONTH=3
TZNAME:EDT
END:DAYLIGHT
BEGIN:STANDARD
DTSTART:20241103T010000
TZOFFSETFROM:-0400
TZOFFSETTO:-0500
RRULE:FREQ=YEARLY;BYDAY=1SU;BYMONTH=11
TZNAME:EST
END:STANDARD
END:VTIMEZONE
BEGIN:VEVENT
DTSTAMP:20260422T210049Z
UID:ftvYwA
DTSTART;TZID=America/New_York:20240812T183000
DTEND;TZID=America/New_York:20240812T210000
CLASS:PUBLIC
CREATED:20240607T181328
DESCRIPTION: WHERE: Chrysalis at The Creative School\, 43 Gerrard St. East\
 , Toronto \n\n WHEN: August 12th\, 2024 from 6:30PM - 8:45PM ET(Registrati
 on starts at 6:30pm) \n\n  \nTechTO features in-depth conversations with t
 echnology leaders\, innovators\, and entrepreneurs. Our TechTO: Together s
 eries gives access to exclusive venues\, speakers\, food\, and more! \n\n 
  \nSuccess is not linear. Even the most dynamic leaders experience challen
 ges and setbacks. However\, in those experiences\, there are many lessons 
 and opportunities to redefine our strategies and TechTO showcases the comp
 lexities that make the journey all of what it is. \n\n  \nTechTO is curate
 d to bring you inspirational stories where you can learn practical tips fr
 om leaders who have dreamed\, struggled\, and ultimately persevered. Our c
 onversation with our guests typically reviews their career journey\, the e
 arly days of their company\, lessons from scaling\, and a few fun personal
  questions. \n\n  \nPlease visit the event website for speakers announceme
 nt: Here \n
LAST-MODIFIED:20250430T084033
LOCATION:Chrysalis at The Creative School\, 43 Gerrard St. East\, Toronto
ORGANIZER:mailto:info@techtoronto.org
SUMMARY:TechTO: Together | August 12\, 2024
URL;VALUE=URI:https://ti.to/techtoronto/techto-aug-12-2024
URL;VALUE=URI:https://ti.to/techtoronto/techto-aug-12-2024
END:VEVENT
BEGIN:VEVENT
DTSTAMP:20260422T210049Z
UID:ftvYwA1072268
DTSTART;TZID=America/New_York:20240812T183000
DTEND;TZID=America/New_York:20240812T210000
CLASS:PUBLIC
CREATED:20240607T181329
DESCRIPTION:6:30 pm — Doors open and registration (There is no pre-event 
 networking)\n\n7:00 pm — Community open mic\, speaker presentations\n\n8
 :45 pm — End of the event\n\n8:45 pm onwards — After Party
LAST-MODIFIED:20240612T110108
LOCATION:Chrysalis at The Creative School\, 43 Gerrard St. East\, Toronto
ORGANIZER:mailto:info@techtoronto.org
SUMMARY:[TechTO: Together | August 12\, 2024] TechTOgether August 12
URL;VALUE=URI:https://ti.to/techtoronto/techto-aug-12-2024
X-ALT-DESC;FMTTYPE=text/html:6:30 pm — Doors open and registration (There
  is no pre-event networking)\n\n7:00 pm — Community open mic\, speaker p
 resentations\n\n8:45 pm — End of the event\n\n8:45 pm onwards — After 
 Party
URL;VALUE=URI:https://ti.to/techtoronto/techto-aug-12-2024
END:VEVENT
END:VCALENDAR
