BEGIN:VCALENDAR
VERSION:2.0
PRODID:icalendar-ruby
CALSCALE:GREGORIAN
BEGIN:VEVENT
DTSTAMP:20260423T131734Z
UID:EgUj1A
DTSTART;VALUE=DATE:20180305
DTEND;VALUE=DATE:20180306
CLASS:PUBLIC
CREATED:20180108T210714
LAST-MODIFIED:20250430T124033
LOCATION:Toronto\, Ontario
ORGANIZER:mailto:jared@techtoronto.org
SUMMARY:MarketingTO - March 5\, 2018
URL;VALUE=URI:https://ti.to/techtoronto/marketingto-march2018
URL;VALUE=URI:https://ti.to/techtoronto/marketingto-march2018
END:VEVENT
BEGIN:VEVENT
DTSTAMP:20260423T131734Z
UID:EgUj1A1019191
DTSTART:20180305T180000
DTEND:20180305T210000
CLASS:PUBLIC
CREATED:20180108T210719
LAST-MODIFIED:20180108T211048
ORGANIZER:mailto:jared@techtoronto.org
SUMMARY:[MarketingTO - March 5\, 2018] Venue capacity
URL;VALUE=URI:https://ti.to/techtoronto/marketingto-march2018
URL;VALUE=URI:https://ti.to/techtoronto/marketingto-march2018
END:VEVENT
END:VCALENDAR
