BEGIN:VCALENDAR
VERSION:2.0
PRODID:icalendar-ruby
CALSCALE:GREGORIAN
BEGIN:VEVENT
DTSTAMP:20260426T015716Z
UID:LDU9Eg
DTSTART;VALUE=DATE:20161109
DTEND;VALUE=DATE:20161110
CLASS:PUBLIC
CREATED:20160929T185556
LAST-MODIFIED:20250430T124033
LOCATION:Toronto\, Ontario
ORGANIZER:mailto:jared@techtoronto.org
SUMMARY:HealthTO - November 2016
URL;VALUE=URI:https://ti.to/techtoronto/healthto-nov2016
URL;VALUE=URI:https://ti.to/techtoronto/healthto-nov2016
END:VEVENT
BEGIN:VEVENT
DTSTAMP:20260426T015716Z
UID:LDU9Eg1010843
DTSTART:20161109T180000
DTEND:20161109T210000
CLASS:PUBLIC
CREATED:20160929T185608
LAST-MODIFIED:20171122T090200
ORGANIZER:mailto:jared@techtoronto.org
SUMMARY:[HealthTO - November 2016] Venue capacity
URL;VALUE=URI:https://ti.to/techtoronto/healthto-nov2016
URL;VALUE=URI:https://ti.to/techtoronto/healthto-nov2016
END:VEVENT
END:VCALENDAR
