BEGIN:VCALENDAR
VERSION:2.0
PRODID:icalendar-ruby
CALSCALE:GREGORIAN
BEGIN:VEVENT
DTSTAMP:20260421T181133Z
UID:B2CIwg
DTSTART;VALUE=DATE:20200116
DTEND;VALUE=DATE:20200117
CLASS:PUBLIC
CREATED:20191009T213422
LAST-MODIFIED:20250430T124033
LOCATION:Toronto\, Ontario
ORGANIZER:mailto:info@techtoronto.org
SUMMARY:TechTO Health: The future of connected health care
URL;VALUE=URI:https://ti.to/techtoronto/health-january2020
URL;VALUE=URI:https://ti.to/techtoronto/health-january2020
END:VEVENT
BEGIN:VEVENT
DTSTAMP:20260421T181133Z
UID:B2CIwg1029144
DTSTART:20200116T180000
DTEND:20200116T210000
CLASS:PUBLIC
CREATED:20191009T213428
LAST-MODIFIED:20200114T213853
LOCATION:Telus\, Telus Tower\, 25 York Street\, 3rd Floor\, Toronto
ORGANIZER:mailto:info@techtoronto.org
SUMMARY:[TechTO Health: The future of connected health care] General Admiss
 ion
URL;VALUE=URI:https://ti.to/techtoronto/health-january2020
URL;VALUE=URI:https://ti.to/techtoronto/health-january2020
END:VEVENT
END:VCALENDAR
