BEGIN:VCALENDAR
VERSION:2.0
PRODID:icalendar-ruby
CALSCALE:GREGORIAN
BEGIN:VEVENT
DTSTAMP:20260421T102147Z
UID:TtMPvA
DTSTART;VALUE=DATE:20171023
DTEND;VALUE=DATE:20171024
CLASS:PUBLIC
CREATED:20171014T205414
DESCRIPTION: Resident at TechMeetup.Space\, The Dublin .NET Developer Group
  is a new meetup for\, well\, .NET developers. For our very first meetup. 
 we are very privileged to welcome Microsoft MVP Edson Yanaga from Red Hat.
  \n\n Edson is presenting.... \n\n Mastering .NET Core Deployments with Ku
 bernetes &amp\; OpenShift: from Basic to Advanced \n\n and \n\n Cloud Nati
 ve .NET Applications on Openshift / Azure \n\n Doors Open 18:15 - Presenta
 tion 19:00 Sharp \n\n . \n\n Edson Yanaga\, Red Hat's Director of Develope
 r Experience. is a Java Champion and a Microsoft MVP. He is also a publish
 ed author and a frequent speaker at international conferences\, discussing
  Java\, Microservices\, Cloud Computing\, DevOps\, and Software Craftsmans
 hip.  \n\n Yanaga considers himself a software craftsman and is convinced 
 that we all can create a better world for people with better software. His
  life's purpose is to deliver and help developers worldwide to deliver bet
 ter software faster and safely - and he can even call that a job! \n\n You
  can follow him on twitter at  @yanaga \n\n . \n\n Mastering .NET Core Dep
 loyments with Kubernetes &amp\; OpenShift: from Basic to Advanced \n\n The
  “deploy moment” is an occasion that still gives many developers the s
 hivers. But it shouldn’t be this way (at least not every time). Luckily 
 enough\, we have tools and processes today that enable us to turn the depl
 oy moment into an usual activity. Gone are the days when we had to automat
 e everything by hand. Today we have Kubernetes and OpenShift to automate o
 ut-of-box many different scenarios. \n\n In this live demo session we will
  see lots of different deployment scenarios: from basic to advanced. We'll
  cover the basic deployment concepts and then we'll dig into demoing how c
 an we use open source tools like Kubernetes and OpenShift to master the de
 ployment art. \n\n Cloud Native .NET Applications on Openshift / Azure \n\
 n We all want to craft Cloud Native applications that are modern\, scalabl
 e and resilient. We're all aware by now that we need centralized configura
 tion\, log aggregation\, monitoring\, health checking\, circuit breakers\,
  tracing\, service discovery\, and more! \n\n What if instead of having to
  code all of this we could have all of these features provided to our syst
 em in a non-intrusive way? Without having to rearchitect everything all ov
 er again? \n\n Come and join us on this session when we'll show you how to
  leverage your new and existing .NET Core applications with the Kubernetes
  / OpenShift Platform. \n\n We'll convince you that you don't need to mana
 ge many different services by yourself to have a true Cloud Native applica
 tion. You can rely on Kubernetes services to solve most of the problems. F
 or the rest of them you can use alternatives like sidecar containers to of
 fer added-value functionality without having to add even a single LOC! \n\
 n . \n\n REGISTRATION NOTES \n\n The Dublin .NET Developer Group meetups a
 re designed to enhance the knowledge of developers and technology professi
 onals.  \n\n The organisers reserve the right to cancel the booking if the
  attendee is not aligned to the intended audience.  \n\n The Dublin .NET D
 eveloper Group - Sponsor Messages \n\n Stackand.Co enrich the professional
  lives of Java / Scala software professionals - with over 20 years experie
 nce in the Irish ICT market\, they have helped many great people elevate t
 heir careers. \n\n Perhaps they can do the same for you working with compa
 nies like this one? \n\n Website: Stackand.Co  / Twitter: StackanddotCo \n
 \n .\ntcube provides city-centre co-working / hotdesks and fully serviced 
 office space for ICT professionals and companies specifically. Their commu
 nity knits so well together remote workers\, contractors\, city visitors a
 nd entrepreneurs / startups immediately become a part of a network of like
 -minded people who are able and willing to help one another. Offices in Fl
 eet Street\, Trinity Street and Grafton Street provide great locations wit
 h a huge benefit when it comes to hiring and retaining millennials. \n\n W
 ebsite: tcubedublin.com  / Twitter: tcubeDublin \n\n . \n\n MORE TECHMEETU
 P.SPACE EVENTS \n\n Developers who are interested in this meetup are also 
 attending other technology meetups - check them at https://ti.to/techmeetu
 pspace/ \n
LAST-MODIFIED:20171023T142946
LOCATION:
ORGANIZER:mailto:tcube@irishdev.com
SUMMARY:Dublin .NET Developers - Cloud Native .NET Applications on OpenShif
 t / Azure
URL;VALUE=URI:https://ti.to/techmeetupspace/dublin-net-developers-cloud-nat
 ive-net-applications-on-openshift-azure
URL;VALUE=URI:https://ti.to/techmeetupspace/dublin-net-developers-cloud-nat
 ive-net-applications-on-openshift-azure
END:VEVENT
END:VCALENDAR
