BEGIN:VCALENDAR
VERSION:2.0
PRODID:icalendar-ruby
CALSCALE:GREGORIAN
BEGIN:VEVENT
DTSTAMP:20260421T203045Z
UID:AgWsnw
DTSTART;VALUE=DATE:20191022
DTEND;VALUE=DATE:20191023
CLASS:PUBLIC
CREATED:20190409T141832
DESCRIPTION: ThunderPlains is a web and mobile developer conference that fo
 cuses on Community\, JavaScript and related tech that make the web interes
 ting. \n\n ThunderPlains is organized and backed by Techlahoma – a volun
 teer-run 501(c)3 non-profit. Techlahoma is dedicated to advancing Oklahoma
 ns through accessible tech training and community building. \n
LAST-MODIFIED:20241005T140513
LOCATION:Oklahoma City\, OK\, USA
ORGANIZER:mailto:info@techlahoma.org
SUMMARY:ThunderPlains 2019
URL;VALUE=URI:https://ti.to/techlahoma/thunderplains-2019
URL;VALUE=URI:https://ti.to/techlahoma/thunderplains-2019
END:VEVENT
END:VCALENDAR
