BEGIN:VCALENDAR
VERSION:2.0
PRODID:icalendar-ruby
CALSCALE:GREGORIAN
BEGIN:VEVENT
DTSTAMP:20260420T124937Z
UID:8sUgUA
DTSTART;VALUE=DATE:20151103
DTEND;VALUE=DATE:20151104
CLASS:PUBLIC
CREATED:20150714T150511
DESCRIPTION: ThunderPlains is a web and mobile developer conference organiz
 ed by the Oklahoma City Javascript User Group. The conference focuses on J
 avaScript and related technologies in a wide variety of different use case
 s and platforms that make the web all the more interesting. Information ab
 out scholarship tickets is available on thunderplainsconf.com. 300 total t
 ickets are available. \n
LAST-MODIFIED:20240611T154505
LOCATION:Oklahoma City\, OK
ORGANIZER:mailto:info@techlahoma.org
SUMMARY:ThunderPlains 2015
URL;VALUE=URI:https://ti.to/techlahoma/thunderplains-2015
URL;VALUE=URI:https://ti.to/techlahoma/thunderplains-2015
END:VEVENT
BEGIN:VEVENT
DTSTAMP:20260420T124937Z
UID:8sUgUA1000262
DTSTART:20151103T140000
DTEND;VALUE=DATE:20151104
CLASS:PUBLIC
CREATED:20150723T200818
DESCRIPTION:Main conference day
LAST-MODIFIED:20171122T085933
ORGANIZER:mailto:info@techlahoma.org
SUMMARY:[ThunderPlains 2015] Conference
URL;VALUE=URI:https://ti.to/techlahoma/thunderplains-2015
X-ALT-DESC;FMTTYPE=text/html:Main conference day
URL;VALUE=URI:https://ti.to/techlahoma/thunderplains-2015
END:VEVENT
END:VCALENDAR
