BEGIN:VCALENDAR
VERSION:2.0
PRODID:icalendar-ruby
CALSCALE:GREGORIAN
BEGIN:VTIMEZONE
TZID:America/Chicago
BEGIN:DAYLIGHT
DTSTART:20250309T030000
TZOFFSETFROM:-0600
TZOFFSETTO:-0500
RRULE:FREQ=YEARLY;BYDAY=2SU;BYMONTH=3
TZNAME:CDT
END:DAYLIGHT
BEGIN:STANDARD
DTSTART:20251102T010000
TZOFFSETFROM:-0500
TZOFFSETTO:-0600
RRULE:FREQ=YEARLY;BYDAY=1SU;BYMONTH=11
TZNAME:CST
END:STANDARD
END:VTIMEZONE
BEGIN:VEVENT
DTSTAMP:20260424T160023Z
UID:b2N2xQ
DTSTART;TZID=America/Chicago:20250312T180000
DTEND;TZID=America/Chicago:20250312T203000
CLASS:PUBLIC
CREATED:20250202T182429
DESCRIPTION: Our presenter is Andy Hamernik\, USDA Agricultural Science Res
 earch Technician at the UW’s Jansky Lab at 525 Walnut Street in Madison.
  The Jansky lab is engaged in a project to breed a better potato. The main
  emphasis of the breeding program is to do germ plasma enhancement utilizi
 ng the 100 wild potato species that exist\, giving the common potato disea
 se and pest resistance\, as well as other quality characteristics. The obj
 ective is to produce a potato that we will one day eat that relies less on
  inputs to grow. We will meet for dinner at the Great Dane at Hilldale at 
 6pm and then proceed to the greenhouses for a tour around 7pm. \n\n The co
 st of this event is $25. Payment is accepted via the online payment method
 s shown below or by cash at the door. \n
LAST-MODIFIED:20250215T134732
LOCATION:Madison\, WI
ORGANIZER:mailto:charlesjgervasi@gmail.com
SUMMARY:Tour of UW Potato Breeding Greenhouses
URL;VALUE=URI:https://ti.to/techclubmadison/tour-of-uw-potato-breeding-gree
 nhouses
URL;VALUE=URI:https://ti.to/techclubmadison/tour-of-uw-potato-breeding-gree
 nhouses
END:VEVENT
END:VCALENDAR
