BEGIN:VCALENDAR
VERSION:2.0
PRODID:icalendar-ruby
CALSCALE:GREGORIAN
BEGIN:VEVENT
DTSTAMP:20260424T003258Z
UID:oR5csA
DTSTART;VALUE=DATE:20161001
DTEND;VALUE=DATE:20161002
CLASS:PUBLIC
CREATED:20160821T183555
DESCRIPTION: LIN: Léman Innovation Numérique: Mise en réseau des projets
  innovants en Suisse et France autour du lac Léman. \n
LAST-MODIFIED:20160915T212534
LOCATION:Genève
ORGANIZER:mailto:Pascal.KOTTE@CloudReady.ch
SUMMARY:Forum LIN 2016 (Léman Innovation Numérique)
URL;VALUE=URI:https://ti.to/tech4good-ch/forumlin2016
URL;VALUE=URI:https://ti.to/tech4good-ch/forumlin2016
END:VEVENT
END:VCALENDAR
