BEGIN:VCALENDAR
VERSION:2.0
PRODID:icalendar-ruby
CALSCALE:GREGORIAN
BEGIN:VEVENT
DTSTAMP:20260422T141547Z
UID:P0L56w
DTSTART:20260528T181500
DTEND:20260528T210000
CLASS:PUBLIC
CREATED:20260421T130508
DESCRIPTION: Are you a tech support engineer\, IT manager or CTO and want t
 o have a clear understanding of how Microsoft Intune scales out as more fe
 atures are added or why Microsoft Endpoint's Identity &amp\; Access Manage
 ment (IAM) controls is becoming more and more fundamental in security? \n\
 n Then this event is for you! \n\n Come join Stackand.Co at their monthly 
 Tech Pro Ireland event with special guest\, Keith Doolan\, on the evening 
 of Thursday 28th May. \n
LAST-MODIFIED:20260421T144348
LOCATION:Dublin City Centre
ORGANIZER:mailto:hello@stackand.co
SUMMARY:Tech Pro Ireland 265 - with Keith Doolan
URL;VALUE=URI:https://ti.to/tech-pro-ireland/265-tech-pro-ireland
URL;VALUE=URI:https://ti.to/tech-pro-ireland/265-tech-pro-ireland
END:VEVENT
END:VCALENDAR
