BEGIN:VCALENDAR
VERSION:2.0
PRODID:icalendar-ruby
CALSCALE:GREGORIAN
BEGIN:VEVENT
DTSTAMP:20260423T135613Z
UID:dp6ncw
DTSTART;VALUE=DATE:20190704
DTEND;VALUE=DATE:20190705
CLASS:PUBLIC
CREATED:20190618T141651
DESCRIPTION: All about distributed ledger technology and IOTA\, a Meetup-St
 yle Sundowner Event with Keynotes\, Panel\, Startups and Team Game. Wonder
 ful outdoor location waterside with Barbecue\, Drinks\, Networking\, DJ Lo
 unge \n\n Program:\n-       Boat shuttle from Funkhaus to Hafenküche Star
 t 6pm (pls register for our event) \n\n Presentations and Keynotes: \n\n \
 n    How does Blockchain/ Distributed Ledger work? Learn about Distributed
  Ledger Technology: Business impact\, Status Quo\, Benefits of individuals
 \, Use Cases like Smart City\, Smart Living\, Mobility and Energy\n  \n   
  Keynote Founder IOTA Foundation: Dominik Schiener\n  \n    Introducing IO
 TA Cases with Partners (Sponsors)\, Startups and latest developments.\n  \
 n    Barbecue\, Networking\, Waterside Lounge\n  \n \n
LAST-MODIFIED:20240603T094450
LOCATION:Hafenküche\, Zur alten Flussbadeanstalt 5\, 10317 Berlin
ORGANIZER:mailto:regine@iota.org
SUMMARY:IOTA Barbecue - how Distributed Ledger Technology shapes our future
URL;VALUE=URI:https://ti.to/tech-open-air-berlin/iotavillage
URL;VALUE=URI:https://ti.to/tech-open-air-berlin/iotavillage
END:VEVENT
BEGIN:VEVENT
DTSTAMP:20260423T135613Z
UID:dp6ncw1027339
DTSTART:20190704T180000
DTEND:20190704T220000
CLASS:PUBLIC
CREATED:20190618T141654
DESCRIPTION:IOTA - Barbecue\, Drinks and how decentralized technologies wil
 l shape our future: All about distributed ledger technology and IOTA\, a M
 eetup-Style Sundowner Event with Keynotes\, Panel\, Startups\, and Team Ga
 me. Wonderful outdoor location waterside with Barbecue\, Drinks\, Networki
 ng\, DJ Lounge\n
LAST-MODIFIED:20190619T124956
LOCATION:Hafenküche\, Zur alten Flussbadeanstalt 5\, 10317 Berlin
ORGANIZER:mailto:regine@iota.org
SUMMARY:[IOTA Barbecue - how Distributed Ledger Technology shapes our futur
 e] Join our IOTA  Barbecue\, Drinks and how DLT (Blockchain) shape our fut
 ure
URL;VALUE=URI:https://ti.to/tech-open-air-berlin/iotavillage
X-ALT-DESC;FMTTYPE=text/html:IOTA - Barbecue\, Drinks and how decentralized
  technologies will shape our future: All about distributed ledger technolo
 gy and IOTA\, a Meetup-Style Sundowner Event with Keynotes\, Panel\, Start
 ups\, and Team Game. Wonderful outdoor location waterside with Barbecue\, 
 Drinks\, Networking\, DJ Lounge\n
URL;VALUE=URI:https://ti.to/tech-open-air-berlin/iotavillage
END:VEVENT
END:VCALENDAR
