BEGIN:VCALENDAR
VERSION:2.0
PRODID:icalendar-ruby
CALSCALE:GREGORIAN
BEGIN:VEVENT
DTSTAMP:20260424T015104Z
UID:QN111w
DTSTART;VALUE=DATE:20190705
DTEND;VALUE=DATE:20190706
CLASS:PUBLIC
CREATED:20190605T132720
DESCRIPTION: Want to prepare your startup for the future? Wirecard is a glo
 bal payment provider with the tools to help you get ahead. Join us at our 
 Spielfeld Digital Hub office in Berlin for a networking breakfast! Discove
 r how we plan to shape the payment world of the future with innovative new
  concepts in the fields of blockchain\, robotics and biometric payments. W
 e’re excited to exchange fresh ideas and build new business relationship
 s.   \n
LAST-MODIFIED:20240603T094450
LOCATION:Spielfeld Digital Hub GmbH\, Entrance D\, Skalitzer Str. 85/86\, 1
 0997 Berlin
ORGANIZER:mailto:eventmarketing@wirecard.com
SUMMARY:Meet Wirecard at Spielfeld and Experience the Digital Future
URL;VALUE=URI:https://ti.to/tech-open-air-berlin/Wirecard
URL;VALUE=URI:https://ti.to/tech-open-air-berlin/Wirecard
END:VEVENT
BEGIN:VEVENT
DTSTAMP:20260424T015104Z
UID:QN111w1027071
DTSTART:20190705T093000
DTEND:20190705T123000
CLASS:PUBLIC
CREATED:20190605T132721
LAST-MODIFIED:20190618T080142
LOCATION:Spielfeld Digital Hub GmbH\, Entrance D\, Skalitzer Str. 85/86\, 1
 0997 Berlin
ORGANIZER:mailto:eventmarketing@wirecard.com
SUMMARY:[Meet Wirecard at Spielfeld and Experience the Digital Future] Wire
 card
URL;VALUE=URI:https://ti.to/tech-open-air-berlin/Wirecard
URL;VALUE=URI:https://ti.to/tech-open-air-berlin/Wirecard
END:VEVENT
END:VCALENDAR
