BEGIN:VCALENDAR
VERSION:2.0
PRODID:icalendar-ruby
CALSCALE:GREGORIAN
BEGIN:VEVENT
DTSTAMP:20260423T061347Z
UID:h8NCow
DTSTART;VALUE=DATE:20200319
DTEND;VALUE=DATE:20200320
CLASS:PUBLIC
CREATED:20200122T232128
LAST-MODIFIED:20200702T012254
LOCATION:WeWork 18575 Jamboree Rd #6\, Irvine\, CA
ORGANIZER:mailto:emma.jordan@motionrecruitment.com
SUMMARY:The Future of Cybersecurity: DevSecOps Discussion
URL;VALUE=URI:https://ti.to/tech-in-motion/the-future-of-cybersecurity-devs
 ecops-discussion
URL;VALUE=URI:https://ti.to/tech-in-motion/the-future-of-cybersecurity-devs
 ecops-discussion
END:VEVENT
END:VCALENDAR
