BEGIN:VCALENDAR
VERSION:2.0
PRODID:icalendar-ruby
CALSCALE:GREGORIAN
BEGIN:VEVENT
DTSTAMP:20260420T034034Z
UID:sJA0Vg
DTSTART;VALUE=DATE:20220505
DTEND;VALUE=DATE:20220507
CLASS:PUBLIC
CREATED:20211029T082833
DESCRIPTION: DevOpsDays Birmingham Is happening! \n\n Come and join us for 
 two days of talks\, ignites and open spaces. Learn what's new\, share idea
 s and stories and meet your colleagues. \n
LAST-MODIFIED:20250613T164912
LOCATION:Birmingham\, UK
ORGANIZER:mailto:birmingham-uk@devopsdays.org
SUMMARY:DevOpsDays Birmingham\, UK 2022
URL;VALUE=URI:https://ti.to/tech-events-birmingham/devopsdays-birmingham-uk
 -2022
URL;VALUE=URI:https://ti.to/tech-events-birmingham/devopsdays-birmingham-uk
 -2022
END:VEVENT
END:VCALENDAR
