BEGIN:VCALENDAR
VERSION:2.0
PRODID:icalendar-ruby
CALSCALE:GREGORIAN
BEGIN:VEVENT
DTSTAMP:20260424T163439Z
UID:3QPwhQ
DTSTART;VALUE=DATE:20210311
DTEND;VALUE=DATE:20210313
CLASS:PUBLIC
CREATED:20201007T113924
DESCRIPTION: [youtube:R8dYLbJiTUE] \n\n Kanban Management Professional I (K
 MP I) \n\n In diesem Kurs erfahren Sie die Grundlagen von Kanban Systemen 
 und lernen diese selbst aufzubauen. Sie wollen wissen\, was Kanban wirklic
 h ist? Dann erleben Sie in diesem Kurs eine Umfassende Einführung in die 
 Grundlagen und Prinzipien von Kanban. Sie haben schon Ihr erstes Kanban Bo
 ard aufgebaut und wollen einen Schritt weitergehen? Dann erweitern Sie in 
 diesem Kurs Ihr methodisches Wissen über Kanban und erlernen das struktur
 ierte Design eines Kanban Systems. \n\n Was lerne ich in dem Kurs? \n\n In
  dem Kurs „erleben“ Sie Kanban in einer interaktiven Simulation und le
 rnen: \n\n \n die Grundlagen und Konzepte von Kanban \n die Wirkweisen der
  Kanban Praktiken und wie sie ineinander greifen \n wie Sie einen stabilen
  Fluss in Ihrer Wertschöpfungskette erreichen \n die praktischen Anwendun
 gsbereiche und Möglichkeiten von Kanban \n wie Sie ein spezifisches Kanba
 n System mit Hilfe des STATIK Ansatzes gestalten \n viele Tipps und Tricks
  bei der Gestaltung Ihres Kanban Systems und Boards \n \n\n Nach dem Kurs 
 können Sie: \n\n \n ein Kanban System gestalten und damit Lieferfähigkei
 t eines Teams oder Ihrer Organisation erhöhen \n Service- und Produktentw
 icklungsprozesse schrittweise effektiver gestalten \n die Zusammenarbeit z
 wischen Teams visualisieren und damit Verbesserungspotenzial identifiziere
 n \n die mithilfe des Kanban Systems gewonnenen Daten auswerten und damit 
 Veränderungen anstoßen \n \n\n Format: \n\n Interaktiver Workshop mit Pr
 äsentationen\, Übungen und Erfahrungsaustausch. \n\n Dauer: \n\n 2 Tage 
 \n\n Jeder Teilnehmer bekommt ein kostenloses einstündiges Coaching (als 
 Videokonferenz) im Anschluss an das Training (idealerweise ein bis zwei Mo
 nate danach). \n\n Dieses Seminar findet garantiert statt. \n
LAST-MODIFIED:20260127T151304
LOCATION:online
ORGANIZER:mailto:info@teamflow.de
SUMMARY:Kanban Management Professional I (Deutsch)
URL;VALUE=URI:https://ti.to/teamflow/kanban-management-professional-i-deuts
 ch-online-11-12-03-2021
URL;VALUE=URI:https://ti.to/teamflow/kanban-management-professional-i-deuts
 ch-online-11-12-03-2021
END:VEVENT
END:VCALENDAR
