BEGIN:VCALENDAR
VERSION:2.0
PRODID:icalendar-ruby
CALSCALE:GREGORIAN
BEGIN:VEVENT
DTSTAMP:20260424T145336Z
UID:tDNFNg
DTSTART;VALUE=DATE:20171010
DTEND;VALUE=DATE:20171011
CLASS:PUBLIC
CREATED:20170912T173742
DESCRIPTION: POSTPONED \nUntil further notice. If you have any questions pl
 ease contact alumni@tcd.ie for more information. \n\n Join other alumni of
  all ages and experience supporting students with their career planning th
 rough mentoring. This is a breakfast event on Tuesday\, 10 October from 7.
 30 am to 9.00 am . \n\n The format for this event will be an engaging intr
 oductory discussion on the value of mentoring followed by refreshments and
  networking time with students. A buffet breakfast will be provided.  \n\n
  Mentoring is an interactive learning and educational experience. Students
  benefit enormously from the exchange of ideas with mentors and gain usefu
 l insights on how they can best manage their career development. To learn 
 more about your role as a mentor please visit https://www.tcd.ie/alumni/me
 ntoring/faqs.php \n\n After this event mentors and students will be encour
 aged to connect with each other to further a mentoring relationship. You c
 an connect via email\, in person or via the new online mentoring platform 
 (coming soon).  \n\n Sectors and mentor areas of expertise required for th
 is event will include:  \n\n Allied Healthcare  |  Medicine | Nursing &amp
 \; Midwifery  | Pharmacy  | Education/Academia \n
LAST-MODIFIED:20250414T111049
LOCATION:Dining Hall\, Trinity College Dublin
ORGANIZER:mailto:alumni@tcd.ie
SUMMARY:Alumni-to-Student Mentoring Breakfast Event (Health Sciences)
URL;VALUE=URI:https://ti.to/tcdAlumni/alumni-to-student-mentoring-event-Hea
 lthSciences
URL;VALUE=URI:https://ti.to/tcdAlumni/alumni-to-student-mentoring-event-Hea
 lthSciences
END:VEVENT
END:VCALENDAR
