BEGIN:VCALENDAR
VERSION:2.0
PRODID:icalendar-ruby
CALSCALE:GREGORIAN
BEGIN:VEVENT
DTSTAMP:20260424T145240Z
UID:ZXGsTw
DTSTART;VALUE=DATE:20171116
DTEND;VALUE=DATE:20171117
CLASS:PUBLIC
CREATED:20171011T074636
DESCRIPTION: H.E. Ms. Cliona Manahan\, Ambassador of Ireland to Denmark\, i
 s hosting a reception for Trinity Alumni and Friends in honour of Dr Patri
 ck Prendergast\, President and Provost of Trinity College Dublin. This is 
 a wonderful opportunity to meet Dr Prendergast\, connect with fellow gradu
 ates and help to expand the Trinity Alumni network in Denmark. \n\n Date: 
 Thursday 16th November \n\n Time: 19.00–21.00 \n\n Venue: Cafe Royal at 
 the Radisson Blu Royal Hotel\, Copenhagen  \n\n   \n
LAST-MODIFIED:20250414T111049
LOCATION:Cafe Royal\, Radisson Blu Royal Hotel\, Hammerichsgade 1\, DK-1611
  Copenhagen 
ORGANIZER:mailto:alumni@tcd.ie
SUMMARY:Trinity Alumni Reception in Copenhagen
URL;VALUE=URI:https://ti.to/tcdAlumni/alumni-reception-copenhagen
URL;VALUE=URI:https://ti.to/tcdAlumni/alumni-reception-copenhagen
END:VEVENT
END:VCALENDAR
