BEGIN:VCALENDAR
VERSION:2.0
PRODID:icalendar-ruby
CALSCALE:GREGORIAN
BEGIN:VEVENT
DTSTAMP:20260424T150004Z
UID:1LRCHg
DTSTART;VALUE=DATE:20171110
DTEND;VALUE=DATE:20171111
CLASS:PUBLIC
CREATED:20171011T084243
DESCRIPTION: The TCDANI will hold their 93rd Annual Dinner this autumn in t
 he Malone Golf Club. The evening's guest speaker will be Senator Lynn Ruan
 e\, Independent Senator Trinity College Dublin. Guests are particularly we
 lcome at this event.  \n\n Date: Friday 10 November 2017 \n\n Time: drinks
  reception at 6.45pm\, dinner to start 7.30pm \n\n Venue: Malone Golf Club
 \, Belfast \n\n The dress code for this event is black tie / formal.  The 
 charge for dinner will be £30.00 per person (excluding wine\, which may b
 e purchased at table).  \n\n Those wishing to attend are kindly requested 
 to RSVP for this event by Tuesday 7 November to TCDANI Hon. Treasurer Eith
 ne Ryan\, eithne.ryan@barlibrary.com \n
LAST-MODIFIED:20250414T111049
LOCATION:Malone Golf Club\, 240 Upper Malone Road\, Dunmurry\, Belfast BT17
  9LB
ORGANIZER:mailto:alumni@tcd.ie
SUMMARY:Trinity College Dublin Association of Northern Ireland – Annual D
 inner
URL;VALUE=URI:https://ti.to/tcdAlumni/TCDANI-annual-dinner
URL;VALUE=URI:https://ti.to/tcdAlumni/TCDANI-annual-dinner
END:VEVENT
END:VCALENDAR
