BEGIN:VCALENDAR
VERSION:2.0
PRODID:icalendar-ruby
CALSCALE:GREGORIAN
BEGIN:VEVENT
DTSTAMP:20260423T031258Z
UID:oD2aog
DTSTART;VALUE=DATE:20151002
DTEND;VALUE=DATE:20151005
CLASS:PUBLIC
CREATED:20150629T052626
DESCRIPTION: The Taos Wool Festival offers a variety of Workshops and Make 
 &amp\; Take classes. Whether you want to learn a new skill or technique\, 
 or create a unique project ~ there is something for everyone. Please visit
  our website (www.taoswoolfestival.org) for full class descriptions\, stud
 ent requirements and material fees.  \n\n Workshop &amp\; class registrati
 on payments are processed through PayPal. A Paypal account is not required
  for making your payment. PayPal also accepts credit and debit cards issue
 d by VISA\, MasterCard\, Discover Card and American Express.  \n\n Online 
 registrations for the 2015 Taos Wool Festival Workshops &amp\; Classes wil
 l close at midnight\, MDT on September 25th\, 2015. \n
LAST-MODIFIED:20171113T113539
LOCATION:Taos\, New Mexico
ORGANIZER:mailto:jean@desertrosefiberarts.com
SUMMARY:2015 Taos Wool Festival Workshops & Classes
URL;VALUE=URI:https://ti.to/taos-wool-festival-workshops/2015-twf-workshops
 -classes
URL;VALUE=URI:https://ti.to/taos-wool-festival-workshops/2015-twf-workshops
 -classes
END:VEVENT
END:VCALENDAR
