BEGIN:VCALENDAR
VERSION:2.0
PRODID:icalendar-ruby
CALSCALE:GREGORIAN
BEGIN:VEVENT
DTSTAMP:20260422T085454Z
UID:gkg3RQ
DTSTART;VALUE=DATE:20160930
DTEND;VALUE=DATE:20161001
CLASS:PUBLIC
CREATED:20150823T140314
LAST-MODIFIED:20170810T195641
LOCATION:Atlanta\, Georgia
ORGANIZER:mailto:hello@talk-ux.com
SUMMARY:Talk UX 2016
URL;VALUE=URI:https://ti.to/talkux/talk-ux-2016
URL;VALUE=URI:https://ti.to/talkux/talk-ux-2016
END:VEVENT
END:VCALENDAR
