BEGIN:VCALENDAR
VERSION:2.0
PRODID:icalendar-ruby
CALSCALE:GREGORIAN
BEGIN:VTIMEZONE
TZID:Europe/London
BEGIN:DAYLIGHT
DTSTART:20230326T020000
TZOFFSETFROM:+0000
TZOFFSETTO:+0100
RRULE:FREQ=YEARLY;BYDAY=-1SU;BYMONTH=3
TZNAME:BST
END:DAYLIGHT
BEGIN:STANDARD
DTSTART:20221030T010000
TZOFFSETFROM:+0100
TZOFFSETTO:+0000
RRULE:FREQ=YEARLY;BYDAY=-1SU;BYMONTH=10
TZNAME:GMT
END:STANDARD
END:VTIMEZONE
BEGIN:VEVENT
DTSTAMP:20260423T134142Z
UID:uLb9CA
DTSTART;VALUE=DATE:20230301
DTEND;VALUE=DATE:20230304
CLASS:PUBLIC
CREATED:20221128T083404
DESCRIPTION: PSDayUK is a shorter and regional version of PowerShell Confer
 ence Europe. Our goal is to reach out to a wider variety of practitioners 
 by making the conference more accessible.\nAt PSDayUK we’re not afraid o
 f covering the fundamentals of the PowerShell language\, the tooling used 
 for and with PowerShell\, but also to explain practical use cases and the 
 practices we found would help you be more productive \n\n The PSDayUK 2023
  conference is a one day event\, with 3 tracks held in CodeNode in central
  London. Prior to the conference we have two optional days of workshops wi
 th some choice. \n\n The agenda is as follow: \n\n Day 1: PowerShell Funda
 mentals training day \n\n Day 2: PowerShell Deep Dives training day \n\n D
 ay 3: PSDayUK\, full conference day with several renowned international sp
 eakers to run sessions and conversations with you about PowerShell and mor
 e. \n
LAST-MODIFIED:20230313T081727
LOCATION:London
ORGANIZER:mailto:noreply-calendar@tito.io
SUMMARY:PowerShell days UK
URL;VALUE=URI:https://ti.to/synedgy/psdayuk2023
URL;VALUE=URI:https://ti.to/synedgy/psdayuk2023
END:VEVENT
END:VCALENDAR
