BEGIN:VCALENDAR
VERSION:2.0
PRODID:icalendar-ruby
CALSCALE:GREGORIAN
BEGIN:VTIMEZONE
TZID:Africa/Johannesburg
BEGIN:STANDARD
DTSTART:19440319T010000
TZOFFSETFROM:+0300
TZOFFSETTO:+0200
TZNAME:SAST
END:STANDARD
END:VTIMEZONE
BEGIN:VEVENT
DTSTAMP:20260419T172802Z
UID:8dli6Q
DTSTART;VALUE=DATE:20230817
DTEND;VALUE=DATE:20230820
CLASS:PUBLIC
CREATED:20230405T115940
DESCRIPTION: Learn how to think\, work\, and build like a startup in 54 thr
 illing hours. Techstars Startup Weekend is an exciting and immersive foray
  into the world of startups. Over an action-packed three days\, you’ll m
 eet the best mentors\, investors\, co-founders\, and sponsors to show you 
 how to get more done faster -- and\, maybe even start that business. \n\n 
 Organizer Contact details: na.startupweekend@gmail.com\nwindhoek@startupwe
 ekend.org \n \n
LAST-MODIFIED:20250107T204937
LOCATION:Windhoek\, Namibia
ORGANIZER:mailto:na.startupweekend@gmail.com
SUMMARY:Startup Weekend Windhoek 2023
URL;VALUE=URI:https://ti.to/swnam/reg
URL;VALUE=URI:https://ti.to/swnam/reg
END:VEVENT
END:VCALENDAR
