BEGIN:VCALENDAR
VERSION:2.0
PRODID:icalendar-ruby
CALSCALE:GREGORIAN
BEGIN:VTIMEZONE
TZID:Europe/Stockholm
BEGIN:DAYLIGHT
DTSTART:20260329T030000
TZOFFSETFROM:+0100
TZOFFSETTO:+0200
RRULE:FREQ=YEARLY;BYDAY=-1SU;BYMONTH=3
TZNAME:CEST
END:DAYLIGHT
BEGIN:STANDARD
DTSTART:20251026T020000
TZOFFSETFROM:+0200
TZOFFSETTO:+0100
RRULE:FREQ=YEARLY;BYDAY=-1SU;BYMONTH=10
TZNAME:CET
END:STANDARD
END:VTIMEZONE
BEGIN:VEVENT
DTSTAMP:20260420T162202Z
UID:mF7A6A
DTSTART;TZID=Europe/Stockholm:20260314T140000
DTEND;TZID=Europe/Stockholm:20260314T233000
CLASS:PUBLIC
CREATED:20251128T100612
DESCRIPTION: En intensivkurs i Borås för dig som vill bemästra grundture
 n sugar tuck och lära dig variationer och styling som passar till turen. 
 \n\n An intensive course in Borås for those who want to master the basic 
 pattern sugar tuck and learn variations and styling that suit the pattern.
  \n
LAST-MODIFIED:20260312T203226
LOCATION:Yxhammarsgatan 9\, Borås
ORGANIZER:mailto:info@swinginmotion.se
SUMMARY:Unlock your tucks
URL;VALUE=URI:https://ti.to/swinginmotion/unlocktucks26
URL;VALUE=URI:https://ti.to/swinginmotion/unlocktucks26
END:VEVENT
END:VCALENDAR
