BEGIN:VCALENDAR
VERSION:2.0
PRODID:icalendar-ruby
CALSCALE:GREGORIAN
BEGIN:VTIMEZONE
TZID:Europe/Stockholm
BEGIN:DAYLIGHT
DTSTART:20260329T030000
TZOFFSETFROM:+0100
TZOFFSETTO:+0200
RRULE:FREQ=YEARLY;BYDAY=-1SU;BYMONTH=3
TZNAME:CEST
END:DAYLIGHT
BEGIN:STANDARD
DTSTART:20261025T020000
TZOFFSETFROM:+0200
TZOFFSETTO:+0100
RRULE:FREQ=YEARLY;BYDAY=-1SU;BYMONTH=10
TZNAME:CET
END:STANDARD
END:VTIMEZONE
BEGIN:VEVENT
DTSTAMP:20260420T083441Z
UID:UkyOmg
DTSTART;VALUE=DATE:20260418
DTEND;VALUE=DATE:20260419
CLASS:PUBLIC
CREATED:20251124T230253
DESCRIPTION: En intensivkurs för dig som vill lära dig switch-teknik så 
 att du kan föra och följa under samma dans. Ett väldigt kreativt sätt 
 att lära sig av varandra och skapa förståelse för den andra dansrollen
 . \n\n An intensive course for those who want to learn switch technique\, 
 enabling you to lead and follow within the same dance. A highly creative w
 ay to learn from each other and develop an understanding of the opposite d
 ance role. \n
LAST-MODIFIED:20260415T214713
LOCATION:Yxhammarsgatan 9\, Borås
ORGANIZER:mailto:info@swinginmotion.se
SUMMARY:Switch it up! - West Coast Swing
URL;VALUE=URI:https://ti.to/swinginmotion/switch2026
URL;VALUE=URI:https://ti.to/swinginmotion/switch2026
END:VEVENT
END:VCALENDAR
