BEGIN:VCALENDAR
VERSION:2.0
PRODID:icalendar-ruby
CALSCALE:GREGORIAN
BEGIN:VEVENT
DTSTAMP:20260425T011326Z
UID:WNhpGg
DTSTART;VALUE=DATE:20190302
DTEND;VALUE=DATE:20190303
CLASS:PUBLIC
CREATED:20181127T180412
DESCRIPTION: On Saturday 2nd March 2019 we will host the second edition of 
 Global Diversity CFP Day following the success of the 2018 event where 53 
 workshops took place! \n\n In 2019 there will be numerous workshops hosted
  around the globe encouraging and advising newbie speakers to put together
  your very first talk proposal and share your own individual perspective o
 n any subject of interest to people in tech. \n\n Each workshop will have 
 experienced speakers on hand to:\n1. give you a warm\, inclusive welcome i
 n a safe space (check out our Code of Conduct which all participants must 
 adhere to)\n2. mentor you with your proposal\n3. provide speaking advice\n
 4. and share their enthusiasm to get you to the stage! \n
LAST-MODIFIED:20190223T144150
LOCATION:Hyderabad
ORGANIZER:mailto:bhavabhuthi@riseup.net
SUMMARY:Global Diversity CFP Workshop
URL;VALUE=URI:https://ti.to/swecha/global-diversity-cfp-workshop
URL;VALUE=URI:https://ti.to/swecha/global-diversity-cfp-workshop
END:VEVENT
END:VCALENDAR
