BEGIN:VCALENDAR
VERSION:2.0
PRODID:icalendar-ruby
CALSCALE:GREGORIAN
BEGIN:VEVENT
DTSTAMP:20260421T083200Z
UID:opggYA
DTSTART;VALUE=DATE:20140305
DTEND;VALUE=DATE:20140306
CLASS:PUBLIC
CREATED:20140131T103302
DESCRIPTION: From 18:00 to 22:00 GMT \n\n You need Vim. You know the basics
 . Now master it! \n\n Save 10% by booking an Earlybird ticket now. Offer r
 uns until midnight Wednesday\, 26th February. \n\n Want to find out more a
 bout this Core Vim Class? Full details here. \n
LAST-MODIFIED:20231212T102856
LOCATION:
ORGANIZER:mailto:drew@vimcasts.org
SUMMARY:Core Vim Class Online
URL;VALUE=URI:https://ti.to/studio-nelstrom/core-vim-class-online-4
URL;VALUE=URI:https://ti.to/studio-nelstrom/core-vim-class-online-4
END:VEVENT
END:VCALENDAR
