BEGIN:VCALENDAR
VERSION:2.0
PRODID:icalendar-ruby
CALSCALE:GREGORIAN
BEGIN:VEVENT
DTSTAMP:20260419T230234Z
UID:kK9rmQ
DTSTART;VALUE=DATE:20180530
DTEND;VALUE=DATE:20180531
CLASS:PUBLIC
CREATED:20171220T231552
DESCRIPTION: To be notified of future workshops\, sign up here .  \n\n *** 
 EXTRA DATE : MAY 29TH. *** \n\n By the founder of Studio D Radiodurans and
  the author of The Field Study Handbook —  this workshop will show you h
 ow to run international studies to identify new growth opportunities\, und
 erstand the motivations of international users and drive impact in your or
 ganisation.  \n\n Full workshop description. \n
LAST-MODIFIED:20220721T033703
LOCATION:London
ORGANIZER:mailto:noreply-calendar@tito.io
SUMMARY:Clearleft Presents: Jan Chipchase - Field Research Masterclass\, Ma
 y 30
URL;VALUE=URI:https://ti.to/studio-d/London-2018-May30
URL;VALUE=URI:https://ti.to/studio-d/London-2018-May30
END:VEVENT
END:VCALENDAR
