BEGIN:VCALENDAR
VERSION:2.0
PRODID:icalendar-ruby
CALSCALE:GREGORIAN
BEGIN:VEVENT
DTSTAMP:20260420T001752Z
UID:BgKxFw
DTSTART;VALUE=DATE:20180529
DTEND;VALUE=DATE:20180530
CLASS:PUBLIC
CREATED:20171003T191501
DESCRIPTION: To be notified of future workshops\, sign up here .  \n\n By t
 he founder of Studio D Radiodurans and the author of The Field Study Handb
 ook —  this workshop will show you how to run international studies to i
 dentify new growth opportunities\, understand the motivations of internati
 onal users and drive impact in your organisation.  \n\n Full workshop desc
 ription. \n
LAST-MODIFIED:20220721T033702
LOCATION:London
ORGANIZER:mailto:noreply-calendar@tito.io
SUMMARY:Clearleft Presents: Jan Chipchase - Field Research Masterclass\, Ma
 y 29
URL;VALUE=URI:https://ti.to/studio-d/London-2018-May29
URL;VALUE=URI:https://ti.to/studio-d/London-2018-May29
END:VEVENT
END:VCALENDAR
