BEGIN:VCALENDAR
VERSION:2.0
PRODID:icalendar-ruby
CALSCALE:GREGORIAN
BEGIN:VEVENT
DTSTAMP:20260424T043454Z
UID:lgVOqQ
DTSTART;VALUE=DATE:20180518
DTEND;VALUE=DATE:20180519
CLASS:PUBLIC
CREATED:20171221T043039
DESCRIPTION: To be notified of future workshops\, sign up here .  \n\n By t
 he founder of Studio D Radiodurans and the author of The Field Study Handb
 ook —  this workshop will show you how to run international studies to i
 dentify new growth opportunities\, understand the motivations of internati
 onal users and drive impact in your organisation. \n\n Full workshop descr
 iption. \n
LAST-MODIFIED:20220721T033703
LOCATION:Amsterdam
ORGANIZER:mailto:noreply-calendar@tito.io
SUMMARY:May 18\, Field Research Masterclass\, Amsterdam
URL;VALUE=URI:https://ti.to/studio-d/Amsterdam-2018-May18
URL;VALUE=URI:https://ti.to/studio-d/Amsterdam-2018-May18
END:VEVENT
END:VCALENDAR
