BEGIN:VCALENDAR
VERSION:2.0
PRODID:icalendar-ruby
CALSCALE:GREGORIAN
BEGIN:VEVENT
DTSTAMP:20260424T032610Z
UID:3XY0hg
DTSTART;VALUE=DATE:20180517
DTEND;VALUE=DATE:20180518
CLASS:PUBLIC
CREATED:20171221T051435
DESCRIPTION: To be notified of future workshops\, sign up here .  \n\n Side
  projects are the clearest indicator of what we want to become. The simple
  act of completing a side project changes who we are. In this talk\, Jan C
 hipchase\, the founder and director of Studio D Radiodurans\,  SDR Travell
 er  and the author of The Field Study Handbook will introduce three recent
  side projects. \n\n The first is a side project that enables creative flo
 w. \n\n The second\, a reminder of why we travel. \n\n The third is design
 ed to empower. \n\n The event includes a talk and Q&amp\;A. \n\n Seating i
 s limited and we expect this to fill up quickly\, so if you RSVP\, please 
 show up. \n\n *** In town to run the: AMSTERDAM FIELD STUDY MASTERCLASS **
 * \n\n Note: the only difference between tickets\, is what appears on the 
 name badge. \n
LAST-MODIFIED:20230426T072119
LOCATION:Amsterdam
ORGANIZER:mailto:noreply-calendar@tito.io
SUMMARY:May 17\, Jan Chipchase—Side Projects\, Amsterdam
URL;VALUE=URI:https://ti.to/studio-d/Amsterdam-2018-May17
URL;VALUE=URI:https://ti.to/studio-d/Amsterdam-2018-May17
END:VEVENT
END:VCALENDAR
