BEGIN:VCALENDAR
VERSION:2.0
PRODID:icalendar-ruby
CALSCALE:GREGORIAN
BEGIN:VEVENT
DTSTAMP:20260422T052340Z
UID:16QEBg
DTSTART;VALUE=DATE:20190605
DTEND;VALUE=DATE:20190606
CLASS:PUBLIC
CREATED:20190513T114549
DESCRIPTION: Join us for a startup community evening rendezvous during one 
 of the busiest startup event weeks in Helsinki in June! \n\n The coolest n
 etworking party in town on June 5th will be brought to you by Weplus Europ
 e - Coworking Space\,  Crazy Town\, Tribe Tampere and Stream Startup Festi
 val. \n\n Forget about long keynotes and panels! \n\n Come and mingle with
  Tampere startups\, get to know Tribe Tampere local ecosystem community an
 d how to be part of the largest startup event of Autumn - Stream Startup F
 estival. \n\n Get to know WE+ co-working space and companies part of their
  community\, including their member services partner Crazy Town. \n\n Pete
 r Vesterbacka will talk about FinEst Bay Area and Greater Bay Area activit
 ies\, including the the trip planned for Greater Bay Area Gathering in ear
 ly August 2019!  \n\n *Snacks and drinks are on us! You just need to hurry
  up and register as there is a limited amount of seats available! * \n\n S
 ee you!\nTribe+ communities \n
LAST-MODIFIED:20190605T123140
LOCATION:Kaapelitehdas
ORGANIZER:mailto:info@streamfestival.org
SUMMARY:Tribe+
URL;VALUE=URI:https://ti.to/streamfestival/tribeplus
URL;VALUE=URI:https://ti.to/streamfestival/tribeplus
END:VEVENT
END:VCALENDAR
