BEGIN:VCALENDAR
VERSION:2.0
PRODID:icalendar-ruby
CALSCALE:GREGORIAN
BEGIN:VTIMEZONE
TZID:Europe/London
BEGIN:DAYLIGHT
DTSTART:20150329T020000
TZOFFSETFROM:+0000
TZOFFSETTO:+0100
RRULE:FREQ=YEARLY;BYDAY=-1SU;BYMONTH=3
TZNAME:BST
END:DAYLIGHT
BEGIN:STANDARD
DTSTART:20151025T010000
TZOFFSETFROM:+0100
TZOFFSETTO:+0000
RRULE:FREQ=YEARLY;BYDAY=-1SU;BYMONTH=10
TZNAME:GMT
END:STANDARD
END:VTIMEZONE
BEGIN:VEVENT
DTSTAMP:20260422T085909Z
UID:Ou4Gfg
DTSTART;VALUE=DATE:20151022
DTEND;VALUE=DATE:20151024
CLASS:PUBLIC
CREATED:20150311T110516
DESCRIPTION: Return to Summit Homepage \n\n  \n\n Scroll down to secure you
 r place today… \n
LAST-MODIFIED:20160303T155706
LOCATION:London\, United Kingdom
ORGANIZER:mailto:info@theiegroup.com
SUMMARY:Digital Strategy Innovation Summit London 2015
URL;VALUE=URI:https://ti.to/strategy-channel/digital-strategy-innovation-su
 mmit-london-2015
URL;VALUE=URI:https://ti.to/strategy-channel/digital-strategy-innovation-su
 mmit-london-2015
END:VEVENT
END:VCALENDAR
