BEGIN:VCALENDAR
VERSION:2.0
PRODID:icalendar-ruby
CALSCALE:GREGORIAN
BEGIN:VEVENT
DTSTAMP:20260420T084753Z
UID:ZeC6Hg
DTSTART;VALUE=DATE:20210930
DTEND;VALUE=DATE:20211003
CLASS:PUBLIC
CREATED:20210509T193816
DESCRIPTION: Check out the Strange Loop sessions\, preconf info! \n\n For s
 tudent ticket info\, send your student ID to register@thestrangeloop.com (
 $450 rate). \n
LAST-MODIFIED:20221212T145514
LOCATION:St. Louis\, MO
ORGANIZER:mailto:info@thestrangeloop.com
SUMMARY:Strange Loop 2021
URL;VALUE=URI:https://ti.to/strange-loop/2021
URL;VALUE=URI:https://ti.to/strange-loop/2021
END:VEVENT
BEGIN:VEVENT
DTSTAMP:20260420T084753Z
UID:ZeC6Hg1038364
DTSTART:20210929T090000
DTEND:20210929T180000
CLASS:PUBLIC
CREATED:20210525T015125
LAST-MODIFIED:20210812T023159
LOCATION:St. Louis Union Station Hotel\, 1820 Market St.\nSt. Louis\, MO 63
 103
ORGANIZER:mailto:info@thestrangeloop.com
SUMMARY:[Strange Loop 2021] TLA+ Workshop
URL;VALUE=URI:https://ti.to/strange-loop/2021
URL;VALUE=URI:https://ti.to/strange-loop/2021
END:VEVENT
BEGIN:VEVENT
DTSTAMP:20260420T084753Z
UID:ZeC6Hg1038354
DTSTART:20210930T090000
DTEND:20210930T173000
CLASS:PUBLIC
CREATED:20210525T014423
LAST-MODIFIED:20210525T071846
LOCATION:St. Louis Union Station Hotel\, 1820 Market St.\nSt. Louis\, MO 63
 103
ORGANIZER:mailto:info@thestrangeloop.com
SUMMARY:[Strange Loop 2021] TLA+ Conference
URL;VALUE=URI:https://ti.to/strange-loop/2021
URL;VALUE=URI:https://ti.to/strange-loop/2021
END:VEVENT
BEGIN:VEVENT
DTSTAMP:20260420T084753Z
UID:ZeC6Hg1038367
DTSTART:20210930T190000
DTEND:20210930T213000
CLASS:PUBLIC
CREATED:20210525T071450
DESCRIPTION:Party at the City Museum!
LAST-MODIFIED:20210526T201916
ORGANIZER:mailto:info@thestrangeloop.com
SUMMARY:[Strange Loop 2021] Strange Loop Party
URL;VALUE=URI:https://ti.to/strange-loop/2021
X-ALT-DESC;FMTTYPE=text/html:Party at the City Museum!
URL;VALUE=URI:https://ti.to/strange-loop/2021
END:VEVENT
BEGIN:VEVENT
DTSTAMP:20260420T084753Z
UID:ZeC6Hg1038314
DTSTART:20211001T093000
DTEND:20211001T173000
CLASS:PUBLIC
CREATED:20210524T062127
DESCRIPTION:Strange Loop main conference
LAST-MODIFIED:20210525T071259
LOCATION:St. Louis Union Station Hotel\, 1820 Market St.\nSt. Louis\, MO 63
 103
ORGANIZER:mailto:info@thestrangeloop.com
SUMMARY:[Strange Loop 2021] Conference Day 1
URL;VALUE=URI:https://ti.to/strange-loop/2021
X-ALT-DESC;FMTTYPE=text/html:Strange Loop main conference
URL;VALUE=URI:https://ti.to/strange-loop/2021
END:VEVENT
BEGIN:VEVENT
DTSTAMP:20260420T084753Z
UID:ZeC6Hg1038366
DTSTART:20211002T093000
DTEND:20211002T170000
CLASS:PUBLIC
CREATED:20210525T071208
DESCRIPTION:Strange Loop main conference
LAST-MODIFIED:20210525T071251
LOCATION:St. Louis Union Station Hotel\, 1820 Market St.\nSt. Louis\, MO 63
 103
ORGANIZER:mailto:info@thestrangeloop.com
SUMMARY:[Strange Loop 2021] Conference Day 2
URL;VALUE=URI:https://ti.to/strange-loop/2021
X-ALT-DESC;FMTTYPE=text/html:Strange Loop main conference
URL;VALUE=URI:https://ti.to/strange-loop/2021
END:VEVENT
END:VCALENDAR
