BEGIN:VCALENDAR
VERSION:2.0
PRODID:icalendar-ruby
CALSCALE:GREGORIAN
BEGIN:VEVENT
DTSTAMP:20260421T164809Z
UID:qjHOVw
DTSTART;VALUE=DATE:20160915
DTEND;VALUE=DATE:20160918
CLASS:PUBLIC
CREATED:20151022T043719
LAST-MODIFIED:20221212T145514
LOCATION:St. Louis\, MO
ORGANIZER:mailto:register@thestrangeloop.com
SUMMARY:Strange Loop 2016
URL;VALUE=URI:https://ti.to/strange-loop/2016
URL;VALUE=URI:https://ti.to/strange-loop/2016
END:VEVENT
BEGIN:VEVENT
DTSTAMP:20260421T164809Z
UID:qjHOVw1006975
DTSTART:20160915T090000
DTEND:20160915T170000
CLASS:PUBLIC
CREATED:20160510T030854
DESCRIPTION:elm-conf is a full day preconference event (Sept 15) focusing o
 n the Elm language
LAST-MODIFIED:20171122T090055
LOCATION:St. Louis Union Station\, 1820 Market St.\nSt. Louis\, MO 63103
ORGANIZER:mailto:register@thestrangeloop.com
SUMMARY:[Strange Loop 2016] elm-conf
URL;VALUE=URI:https://ti.to/strange-loop/2016
X-ALT-DESC;FMTTYPE=text/html:elm-conf is a full day preconference event (Se
 pt 15) focusing on the Elm language
URL;VALUE=URI:https://ti.to/strange-loop/2016
END:VEVENT
BEGIN:VEVENT
DTSTAMP:20260421T164809Z
UID:qjHOVw1008489
DTSTART:20160915T090000
DTEND:20160915T170000
CLASS:PUBLIC
CREATED:20160604T030202
LAST-MODIFIED:20171122T090119
LOCATION:St. Louis Union Station\, 1820 Market St.\nSt. Louis\, MO 63103
ORGANIZER:mailto:register@thestrangeloop.com
SUMMARY:[Strange Loop 2016] PWLConf
URL;VALUE=URI:https://ti.to/strange-loop/2016
URL;VALUE=URI:https://ti.to/strange-loop/2016
END:VEVENT
END:VCALENDAR
