BEGIN:VCALENDAR
VERSION:2.0
PRODID:icalendar-ruby
CALSCALE:GREGORIAN
BEGIN:VEVENT
DTSTAMP:20260424T170714Z
UID:JkERyw
DTSTART;VALUE=DATE:20180116
DTEND;VALUE=DATE:20180119
CLASS:PUBLIC
CREATED:20171219T205304
DESCRIPTION: Think your dating life is bad? Think again. #StoryParty \n
LAST-MODIFIED:20190529T003823
LOCATION:Performing Arts Centre of Penang | Straits Quay Marina Mall\, Lot 
 3H-4-1\, Jalan Seri Tanjung Pinang\, Pulau Pinang\, 10470 Tanjong Bungah\,
  Malaysia
ORGANIZER:mailto:team@storyparty.co
SUMMARY:Story Party Penang | January 16\, 2018
URL;VALUE=URI:https://ti.to/story-party/story-party-penang-true-dating-stor
 ies
URL;VALUE=URI:https://ti.to/story-party/story-party-penang-true-dating-stor
 ies
END:VEVENT
END:VCALENDAR
