BEGIN:VCALENDAR
VERSION:2.0
PRODID:icalendar-ruby
CALSCALE:GREGORIAN
BEGIN:VEVENT
DTSTAMP:20260421T131212Z
UID:R2rEwA
DTSTART;VALUE=DATE:20180722
DTEND;VALUE=DATE:20180723
CLASS:PUBLIC
CREATED:20180328T144305
DESCRIPTION: Think your dating life is bad? Think again. #StoryParty \n
LAST-MODIFIED:20191221T233459
LOCATION:Piano Bar Geelong | 26 Malop Street\, Geelong\, Victoria 3220
ORGANIZER:mailto:team@storyparty.co
SUMMARY:Story Party Geelong | July 22\, 2018
URL;VALUE=URI:https://ti.to/story-party/story-party-geelong-true-dating-sto
 ries
URL;VALUE=URI:https://ti.to/story-party/story-party-geelong-true-dating-sto
 ries
END:VEVENT
END:VCALENDAR
