BEGIN:VCALENDAR
VERSION:2.0
PRODID:icalendar-ruby
CALSCALE:GREGORIAN
BEGIN:VEVENT
DTSTAMP:20260420T065633Z
UID:E4uYJA
DTSTART;VALUE=DATE:20220910
DTEND;VALUE=DATE:20220912
CLASS:PUBLIC
CREATED:20220728T131820
DESCRIPTION: Birmingham may not be the first city you think of in associati
 on with uber-detective Sherlock Holmes but the evidence is there to be dis
 covered. Creator Sir Arthur Conan Doyle lived in the city at the time he w
 as writing his first mysteries and his later Sherlock adventures borrow th
 e names of several Birmingham figures and locations. Tantalisingly\, the l
 iterary landscape of Conan Doyle’s stories owes much to his formative ex
 periences of Birmingham and Aston. Amateur sleuth Ben Waddington looks for
  the clues that reveal Sherlock Holmes’ local presence as it appears in 
 names\, places\, art\, literature and history. At once an affectionate tri
 bute to the world’s most famous detective but also a reflection on the n
 ature of evidence\, critical thinking and how we arrive at our personal be
 liefs. \n\n Footwear suitable for urban walking and weather-appropriate cl
 othing is essential.\nAccessible \n\n Join Ben after the walk for rest and
  refreshments at The Shakespeare Inn\,  31 Summer Row B3 1JJ \n
LAST-MODIFIED:20220816T100852
LOCATION:Birmingham 
ORGANIZER:mailto:ben.waddington@me.com
SUMMARY:The Game Is Afoot - Sherlock in the City // Ben Waddington
URL;VALUE=URI:https://ti.to/still-walking/the-game-is-afoot
URL;VALUE=URI:https://ti.to/still-walking/the-game-is-afoot
END:VEVENT
END:VCALENDAR
