BEGIN:VCALENDAR
VERSION:2.0
PRODID:icalendar-ruby
CALSCALE:GREGORIAN
BEGIN:VEVENT
DTSTAMP:20260420T072249Z
UID:fxmxgg
DTSTART;VALUE=DATE:20170915
DTEND;VALUE=DATE:20170925
CLASS:PUBLIC
CREATED:20170809T150829
DESCRIPTION: Still Walking Festival is go! Book your tickets below: \n
LAST-MODIFIED:20220728T140106
LOCATION:Birmingham
ORGANIZER:mailto:ben.waddington@me.com
SUMMARY:Still Walking Festival 2017
URL;VALUE=URI:https://ti.to/still-walking/still-walking-festival-2017
URL;VALUE=URI:https://ti.to/still-walking/still-walking-festival-2017
END:VEVENT
END:VCALENDAR
