BEGIN:VCALENDAR
VERSION:2.0
PRODID:icalendar-ruby
CALSCALE:GREGORIAN
BEGIN:VEVENT
DTSTAMP:20260420T072539Z
UID:GOK8HA
DTSTART;VALUE=DATE:20260404
DTEND;VALUE=DATE:20260426
CLASS:PUBLIC
CREATED:20251129T140518
DESCRIPTION: Popular walks from the Still Walking portfolio \n
LAST-MODIFIED:20260414T220609
LOCATION:Birmingham
ORGANIZER:mailto:ben.waddington@me.com
SUMMARY:Spring walks 2026
URL;VALUE=URI:https://ti.to/still-walking/springwalks
URL;VALUE=URI:https://ti.to/still-walking/springwalks
END:VEVENT
END:VCALENDAR
