BEGIN:VCALENDAR
VERSION:2.0
PRODID:icalendar-ruby
CALSCALE:GREGORIAN
BEGIN:VEVENT
DTSTAMP:20260420T072221Z
UID:edkMEQ
DTSTART:20241130T130000
DTEND:20241130T144500
CLASS:PUBLIC
CREATED:20241102T112103
DESCRIPTION: Part Worn Types is an exploration of the typography\, letterin
 g\, shop and business signs\, ghosts signs and the visual communication th
 at together express the many facets of Birmingham's character. Sometimes a
 stonishing\, frequently funny\, occasionally compromised and regularly rat
 her rubbish\, this is a frank but affectionate look at contemporary city t
 ype. Approximately 100 minutes\, followed by optional rest\, refreshments 
 and further conversation at a city centre café or bar. \n
LAST-MODIFIED:20241104T192745
LOCATION:Birmingham
ORGANIZER:mailto:ben.waddington@me.com
SUMMARY:Part Worn Types | Sat 30 Nov | 1pm
URL;VALUE=URI:https://ti.to/still-walking/part-worn-types
URL;VALUE=URI:https://ti.to/still-walking/part-worn-types
END:VEVENT
END:VCALENDAR
