BEGIN:VCALENDAR
VERSION:2.0
PRODID:icalendar-ruby
CALSCALE:GREGORIAN
BEGIN:VEVENT
DTSTAMP:20260420T070143Z
UID:yBGtlQ
DTSTART;VALUE=DATE:20190406
DTEND;VALUE=DATE:20190409
CLASS:PUBLIC
CREATED:20190222T160221
DESCRIPTION: Delegates of Birmingham's Still Walking festival (UK) visit Mu
 nich to share their creative outlook on urban environments. \n
LAST-MODIFIED:20220728T140106
LOCATION:Munich
ORGANIZER:mailto:ben.waddington@me.com
SUMMARY:Still Walking in Munich
URL;VALUE=URI:https://ti.to/still-walking/munich
URL;VALUE=URI:https://ti.to/still-walking/munich
END:VEVENT
END:VCALENDAR
